BEGIN:VCALENDAR
VERSION:2.0
PRODID:-//Cherry Street Pier
 //NONSGML Events //EN
CALSCALE:GREGORIAN
BEGIN:VEVENT
TRANSP:TRANSPARENT
DTEND;VALUE=DATE:20260510
UID:7515
DTSTAMP:20260421T084005Z
DESCRIPTION:Find the perfect gift (or treat yourself!) at the Spring Art Star Craf
STATUS:CONFIRMED
SEQUENCE:0
SUMMARY:Spring Art Star Craft Bazaar: Mother’s Day Weekend
DTSTART;VALUE=DATE:20260509
CREATED:20260413T135905Z
LAST-MODIFIED:20260413T135905Z
LOCATION:121 N. Columbus Boulevard Philadelphia\, PA 19106
ORGANIZER:Cherry Street Pier
URL;VALUE=URI:https://www.cherrystreetpier.com/event/2026/04/spring-art-star-craft-bazaar-mothers-day-weekend/
END:VEVENT
END:VCALENDAR
