BEGIN:VCALENDAR
VERSION:2.0
PRODID:-//Cherry Street Pier
 //NONSGML Events //EN
CALSCALE:GREGORIAN
BEGIN:VEVENT
TRANSP:TRANSPARENT
DTEND;VALUE=DATE:20260426
UID:7420
DTSTAMP:20260424T132950Z
DESCRIPTION:Get ready to light up the Philly Waterfront! Join PopUpPlay’s Lanter
STATUS:CONFIRMED
SEQUENCE:0
SUMMARY:PopUpPlay&#8217\;s Lantern Parade at Cherry Street Pier
DTSTART;VALUE=DATE:20260425
CREATED:20260309T153908Z
LAST-MODIFIED:20260309T153908Z
LOCATION:121 N. Columbus Boulevard Philadelphia\, PA 19106
ORGANIZER:Cherry Street Pier
URL;VALUE=URI:https://www.cherrystreetpier.com/event/2026/03/popupplay-lantern-festival-at-cherry-street-pier/
END:VEVENT
END:VCALENDAR
