BEGIN:VCALENDAR
VERSION:2.0
PRODID:-//Cherry Street Pier
 //NONSGML Events //EN
CALSCALE:GREGORIAN
BEGIN:VEVENT
TRANSP:TRANSPARENT
DTEND;VALUE=DATE:20260323
UID:7408
DTSTAMP:20260422T185049Z
DESCRIPTION:Celebrate the start of spring on the Delaware River Waterfront at the 
STATUS:CONFIRMED
SEQUENCE:0
SUMMARY:Spring Celebration &#038\; Concert with Walk Around Philadelphia
DTSTART;VALUE=DATE:20260322
CREATED:20260302T220733Z
LAST-MODIFIED:20260302T220733Z
LOCATION:121 N. Columbus Boulevard Philadelphia\, PA 19106
ORGANIZER:Cherry Street Pier
URL;VALUE=URI:https://www.cherrystreetpier.com/event/2026/03/walk-around-philadelphia-spring-celebration-concert-at-cherry-street-pier/
END:VEVENT
END:VCALENDAR
