BEGIN:VCALENDAR
VERSION:2.0
PRODID:-//Cherry Street Pier
 //NONSGML Events //EN
CALSCALE:GREGORIAN
BEGIN:VEVENT
TRANSP:TRANSPARENT
DTEND;VALUE=DATE:20231217
UID:5469
DTSTAMP:20260421T084646Z
DESCRIPTION:Join us for an evening of holiday cheer at the Salvation Army Band Con
STATUS:CONFIRMED
SEQUENCE:0
SUMMARY:Salvation Army Band Concert
DTSTART;VALUE=DATE:20231216
CREATED:20231214T202035Z
LAST-MODIFIED:20231214T202035Z
LOCATION:121 N. Columbus Boulevard Philadelphia\, PA 19106
ORGANIZER:Cherry Street Pier
URL;VALUE=URI:https://www.cherrystreetpier.com/event/2023/12/salvation-army-band-concert/
END:VEVENT
END:VCALENDAR
