BEGIN:VCALENDAR
VERSION:2.0
PRODID:-//Cherry Street Pier
 //NONSGML Events //EN
CALSCALE:GREGORIAN
BEGIN:VEVENT
TRANSP:TRANSPARENT
DTEND;VALUE=DATE:20230423
UID:4858
DTSTAMP:20260421T085157Z
DESCRIPTION:SuperGameDay is taking over the Pier with a free event open to the pub
STATUS:CONFIRMED
SEQUENCE:0
SUMMARY:Super Game Day Presents: Pier Takeover 2023
DTSTART;VALUE=DATE:20230422
CREATED:20230303T223653Z
LAST-MODIFIED:20230303T223653Z
LOCATION:121 N. Columbus Boulevard Philadelphia\, PA 19106
ORGANIZER:Cherry Street Pier
URL;VALUE=URI:https://www.cherrystreetpier.com/event/2023/03/supergameday-presents-pier-takeover-23/
END:VEVENT
END:VCALENDAR
