BEGIN:VCALENDAR
VERSION:2.0
PRODID:-//Cherry Street Pier
 //NONSGML Events //EN
CALSCALE:GREGORIAN
BEGIN:VEVENT
TRANSP:TRANSPARENT
DTEND;VALUE=DATE:20210801
UID:3332
DTSTAMP:20260420T164104Z
DESCRIPTION:Some 15 million Americans work during the night. Photographer Ted Liev
STATUS:CONFIRMED
SEQUENCE:0
SUMMARY:Ted Lieverman’s &#8220\;More Nightwork&#8221\;
DTSTART;VALUE=DATE:20210604
CREATED:20210528T214021Z
LAST-MODIFIED:20210528T214021Z
LOCATION:121 N. Columbus Boulevard Philadelphia\, PA 19106
ORGANIZER:Cherry Street Pier
URL;VALUE=URI:https://www.cherrystreetpier.com/event/2021/05/ted-lievermans-more-nightwork/
END:VEVENT
END:VCALENDAR
