BEGIN:VCALENDAR
VERSION:2.0
PRODID:-//Cherry Street Pier
 //NONSGML Events //EN
CALSCALE:GREGORIAN
BEGIN:VEVENT
TRANSP:TRANSPARENT
DTEND;VALUE=DATE:20210422
UID:3168
DTSTAMP:20260421T200815Z
DESCRIPTION:Join us for a Chair Affair art exhibition and auction supporting the P
STATUS:CONFIRMED
SEQUENCE:0
SUMMARY:Chair Affair
DTSTART;VALUE=DATE:20210402
CREATED:20210318T193744Z
LAST-MODIFIED:20210318T193744Z
LOCATION:121 N. Columbus Boulevard Philadelphia\, PA 19106
ORGANIZER:Cherry Street Pier
URL;VALUE=URI:https://www.cherrystreetpier.com/event/2021/03/chair-affair/
END:VEVENT
END:VCALENDAR
