BEGIN:VCALENDAR
VERSION:2.0
PRODID:-//Cherry Street Pier
 //NONSGML Events //EN
CALSCALE:GREGORIAN
BEGIN:VEVENT
TRANSP:TRANSPARENT
DTEND;VALUE=DATE:20210531
UID:3137
DTSTAMP:20260421T180959Z
DESCRIPTION:The year 2020 was one of forest fires, the rapid spread of COVID-19 (c
STATUS:CONFIRMED
SEQUENCE:0
SUMMARY:&#8220\;Twenty Twenty &#8211\; Twenty Twenty One&#8221\; Exhibition
DTSTART;VALUE=DATE:20210402
CREATED:20210304T163743Z
LAST-MODIFIED:20210304T163743Z
LOCATION:121 N. Columbus Boulevard Philadelphia\, PA 19106
ORGANIZER:Cherry Street Pier
URL;VALUE=URI:https://www.cherrystreetpier.com/event/2021/03/twenty-twenty-twenty-twenty-one-exhibition/
END:VEVENT
END:VCALENDAR
