BEGIN:VCALENDAR
VERSION:2.0
PRODID:-//Cherry Street Pier
 //NONSGML Events //EN
CALSCALE:GREGORIAN
BEGIN:VEVENT
TRANSP:TRANSPARENT
DTEND;VALUE=DATE:20200705
UID:2488
DTSTAMP:20260421T084523Z
DESCRIPTION:STREAM NOW!
We&#8217;re putting a virtual spin on a time-honored July 
STATUS:CONFIRMED
SEQUENCE:0
SUMMARY:Now Streaming! The United States Army Band &#8220\;Pershing&#8217\;s Own&#8221\; (Virtual Performance)
DTSTART;VALUE=DATE:20200629
CREATED:20200624T222557Z
LAST-MODIFIED:20200624T222557Z
LOCATION:121 N. Columbus Boulevard Philadelphia\, PA 19106
ORGANIZER:Cherry Street Pier
URL;VALUE=URI:https://www.cherrystreetpier.com/event/2020/06/virtual-performance-the-united-states-army-band-pershings-own/
END:VEVENT
END:VCALENDAR
